BEGIN:VCALENDAR
VERSION:2.0
PRODID:spatie/icalendar-generator
DESCRIPTION:Events from Rosedale Sportsmen&amp;#039\;s Association
X-WR-CALDESC:Events from Rosedale Sportsmen&amp;#039\;s Association
REFRESH-INTERVAL;VALUE=DURATION:PT1440M
X-PUBLISHED-TTL:PT1440M
BEGIN:VTIMEZONE
TZID:America/New_York
BEGIN:DAYLIGHT
DTSTART:20240310T020000Z
TZOFFSETFROM:-0500
TZOFFSETTO:-0400
END:DAYLIGHT
BEGIN:STANDARD
DTSTART:20241103T020000Z
TZOFFSETFROM:-0400
TZOFFSETTO:-0500
END:STANDARD
BEGIN:DAYLIGHT
DTSTART:20250309T020000Z
TZOFFSETFROM:-0500
TZOFFSETTO:-0400
END:DAYLIGHT
END:VTIMEZONE
BEGIN:VTIMEZONE
TZID:UTC
BEGIN:STANDARD
DTSTART:20250725T094746Z
TZOFFSETFROM:+0000
TZOFFSETTO:+0000
END:STANDARD
END:VTIMEZONE
BEGIN:VEVENT
UID:916-5
DTSTAMP:20260421T094746Z
SUMMARY:5-Stand
LOCATION:
ORGANIZER;CN=aableh:MAILTO:webmaster@rosedalesportsmen.org
RRULE:FREQ=WEEKLY;UNTIL=20421231T000000Z
DTSTART;TZID=America/New_York:20241120T170000
DTEND;TZID=America/New_York:20241120T220000
X-ALT-DESC;FMTTYPE=TEXT/HTML:Open to all members in good standing
CATEGORIES:5-Stand
URL;VALUE=URI:https://rosedalesportsmen.org/mc-events/5-stand/?mc_id=916
METHOD:PUBLISH
END:VEVENT
END:VCALENDAR